BEGIN:VCALENDAR
VERSION:2.0
PRODID:-//St. Joseph Catholic School - ECPv6.15.20//NONSGML v1.0//EN
CALSCALE:GREGORIAN
METHOD:PUBLISH
X-WR-CALNAME:St. Joseph Catholic School
X-ORIGINAL-URL:https://stjosephbaytown.com
X-WR-CALDESC:Events for St. Joseph Catholic School
REFRESH-INTERVAL;VALUE=DURATION:PT1H
X-Robots-Tag:noindex
X-PUBLISHED-TTL:PT1H
BEGIN:VTIMEZONE
TZID:UTC
BEGIN:STANDARD
TZOFFSETFROM:+0000
TZOFFSETTO:+0000
TZNAME:UTC
DTSTART:20180101T000000
END:STANDARD
END:VTIMEZONE
BEGIN:VEVENT
DTSTART;TZID=UTC:20231027T080000
DTEND;TZID=UTC:20231027T170000
DTSTAMP:20260423T033648
CREATED:20231028T044018Z
LAST-MODIFIED:20231028T044018Z
UID:2348-1698393600-1698426000@stjosephbaytown.com
SUMMARY:Facts Tuition Assistance Information
DESCRIPTION:https://www.choosecatholicschools.org/tuition-assistance
URL:https://stjosephbaytown.com/event/facts-tuition-assistance-information/
LOCATION:TX
END:VEVENT
BEGIN:VEVENT
DTSTART;VALUE=DATE:20220725
DTEND;VALUE=DATE:20220726
DTSTAMP:20260423T033648
CREATED:20220719T041103Z
LAST-MODIFIED:20231028T043637Z
UID:2153-1658707200-1658793599@stjosephbaytown.com
SUMMARY:Tuition Assistance Announcements
DESCRIPTION:
URL:https://stjosephbaytown.com/event/tuition-assistance-announcements/
LOCATION:TX
END:VEVENT
BEGIN:VEVENT
DTSTART;TZID=UTC:20200812T080000
DTEND;TZID=UTC:20200908T150000
DTSTAMP:20260423T033648
CREATED:20200327T005525Z
LAST-MODIFIED:20230406T020702Z
UID:1643-1597219200-1599577200@stjosephbaytown.com
SUMMARY:During school closure due to COVID-19\, St. Joseph Catholic School has implemented Distance Learning. As an alternative route to in-person classroom instruction\, the teachers and staff of St. Joseph Regional Catholic School are dedicated to providing learning experiences based upon high academic excellence and expectations.
DESCRIPTION:
URL:https://stjosephbaytown.com/event/welcome-to-the-nest/
LOCATION:TX
END:VEVENT
BEGIN:VEVENT
DTSTART;TZID=UTC:20191121T103000
DTEND;TZID=UTC:20191121T120000
DTSTAMP:20260423T033648
CREATED:20190829T203630Z
LAST-MODIFIED:20230406T020702Z
UID:1550-1574332200-1574337600@stjosephbaytown.com
SUMMARY:School Thanksgiving Feast
DESCRIPTION:
URL:https://stjosephbaytown.com/event/school-thanksgiving-feast/
LOCATION:TX
END:VEVENT
BEGIN:VEVENT
DTSTART;TZID=UTC:20190926T180000
DTEND;TZID=UTC:20190926T190000
DTSTAMP:20260423T033648
CREATED:20190806T020756Z
LAST-MODIFIED:20230406T020702Z
UID:1471-1569520800-1569524400@stjosephbaytown.com
SUMMARY:PTA Meeting
DESCRIPTION:
URL:https://stjosephbaytown.com/event/pta-meeting-2/
LOCATION:TX
END:VEVENT
BEGIN:VEVENT
DTSTART;TZID=UTC:20190926T163000
DTEND;TZID=UTC:20190926T170000
DTSTAMP:20260423T033648
CREATED:20190829T015659Z
LAST-MODIFIED:20230406T020702Z
UID:1546-1569515400-1569517200@stjosephbaytown.com
SUMMARY:Soccer Game - Home
DESCRIPTION:VS Queen of Peace Richwood
URL:https://stjosephbaytown.com/event/soccer-game-home-4/
LOCATION:TX
END:VEVENT
BEGIN:VEVENT
DTSTART;TZID=UTC:20190925T163000
DTEND;TZID=UTC:20190925T163000
DTSTAMP:20260423T033648
CREATED:20190829T015606Z
LAST-MODIFIED:20230406T020702Z
UID:1544-1569429000-1569429000@stjosephbaytown.com
SUMMARY:Volleyball Game - Home
DESCRIPTION:VS St. Augustine
URL:https://stjosephbaytown.com/event/volleyball-game-home-5/
LOCATION:TX
END:VEVENT
BEGIN:VEVENT
DTSTART;TZID=UTC:20190924T163000
DTEND;TZID=UTC:20190924T163000
DTSTAMP:20260423T033648
CREATED:20190829T014929Z
LAST-MODIFIED:20230406T020702Z
UID:1542-1569342600-1569342600@stjosephbaytown.com
SUMMARY:Soccer Game - Away
DESCRIPTION:@ Holy Rosary
URL:https://stjosephbaytown.com/event/soccer-game-away-3/
LOCATION:TX
END:VEVENT
BEGIN:VEVENT
DTSTART;TZID=UTC:20190923T163000
DTEND;TZID=UTC:20190923T163000
DTSTAMP:20260423T033648
CREATED:20190829T014909Z
LAST-MODIFIED:20230406T020702Z
UID:1540-1569256200-1569256200@stjosephbaytown.com
SUMMARY:Volleyball Game - Home
DESCRIPTION:VS St. Mary (League City)
URL:https://stjosephbaytown.com/event/volleyball-game-home-4/
LOCATION:TX
END:VEVENT
BEGIN:VEVENT
DTSTART;VALUE=DATE:20190923
DTEND;VALUE=DATE:20190924
DTSTAMP:20260423T033648
CREATED:20190829T014653Z
LAST-MODIFIED:20230406T020702Z
UID:1538-1569196800-1569283199@stjosephbaytown.com
SUMMARY:8th Grade visits Cristo Rey HS
DESCRIPTION:
URL:https://stjosephbaytown.com/event/8th-grade-visits-cristo-rey-hs/
LOCATION:TX
END:VEVENT
BEGIN:VEVENT
DTSTART;TZID=UTC:20190919T180000
DTEND;TZID=UTC:20190919T190000
DTSTAMP:20260423T033648
CREATED:20190806T020739Z
LAST-MODIFIED:20230406T020702Z
UID:1469-1568916000-1568919600@stjosephbaytown.com
SUMMARY:School Board Meeting
DESCRIPTION:
URL:https://stjosephbaytown.com/event/school-board-meeting/
LOCATION:TX
END:VEVENT
BEGIN:VEVENT
DTSTART;TZID=UTC:20190919T163000
DTEND;TZID=UTC:20190919T170000
DTSTAMP:20260423T033648
CREATED:20190829T014630Z
LAST-MODIFIED:20230406T020702Z
UID:1536-1568910600-1568912400@stjosephbaytown.com
SUMMARY:Soccer Game - Home
DESCRIPTION:VS St. Helen
URL:https://stjosephbaytown.com/event/soccer-game-home-3/
LOCATION:TX
END:VEVENT
BEGIN:VEVENT
DTSTART;TZID=UTC:20190918T163000
DTEND;TZID=UTC:20190918T170000
DTSTAMP:20260423T033648
CREATED:20190829T014606Z
LAST-MODIFIED:20230406T020702Z
UID:1534-1568824200-1568826000@stjosephbaytown.com
SUMMARY:Volleyball Game - Away
DESCRIPTION:@ St. Clare
URL:https://stjosephbaytown.com/event/volleyball-away/
LOCATION:TX
END:VEVENT
BEGIN:VEVENT
DTSTART;TZID=UTC:20190917T163000
DTEND;TZID=UTC:20190917T170000
DTSTAMP:20260423T033648
CREATED:20190829T014546Z
LAST-MODIFIED:20230406T020702Z
UID:1532-1568737800-1568739600@stjosephbaytown.com
SUMMARY:Soccer Game - Away
DESCRIPTION:@ St. Mary’s (League City)
URL:https://stjosephbaytown.com/event/soccer-game-away-2/
LOCATION:TX
END:VEVENT
BEGIN:VEVENT
DTSTART;TZID=UTC:20190916T163000
DTEND;TZID=UTC:20190916T163000
DTSTAMP:20260423T033648
CREATED:20190829T014505Z
LAST-MODIFIED:20230406T020702Z
UID:1530-1568651400-1568651400@stjosephbaytown.com
SUMMARY:Volleyball Game - Home
DESCRIPTION:VS True Cross
URL:https://stjosephbaytown.com/event/volleyball-game-home-2/
LOCATION:TX
END:VEVENT
BEGIN:VEVENT
DTSTART;VALUE=DATE:20190916
DTEND;VALUE=DATE:20190917
DTSTAMP:20260423T033648
CREATED:20190829T014422Z
LAST-MODIFIED:20230406T020702Z
UID:1528-1568592000-1568678399@stjosephbaytown.com
SUMMARY:8th Grade visits St. Pius X HS
DESCRIPTION:
URL:https://stjosephbaytown.com/event/8th-grade-visits-st-pius-x-hs/
LOCATION:TX
END:VEVENT
BEGIN:VEVENT
DTSTART;TZID=UTC:20190915T110000
DTEND;TZID=UTC:20190915T120000
DTSTAMP:20260423T033648
CREATED:20190823T234420Z
LAST-MODIFIED:20230406T020702Z
UID:1478-1568545200-1568548800@stjosephbaytown.com
SUMMARY:School Mass @ St. Joseph Church
DESCRIPTION:
URL:https://stjosephbaytown.com/event/school-mass-st-joseph-church/
LOCATION:TX
END:VEVENT
BEGIN:VEVENT
DTSTART;TZID=UTC:20190912T163000
DTEND;TZID=UTC:20190912T180000
DTSTAMP:20260423T033648
CREATED:20190829T012537Z
LAST-MODIFIED:20230406T020702Z
UID:1524-1568305800-1568311200@stjosephbaytown.com
SUMMARY:Parent/Teacher Conferences
DESCRIPTION:School Gym
URL:https://stjosephbaytown.com/event/parent-teacher-conferences/
LOCATION:TX
END:VEVENT
BEGIN:VEVENT
DTSTART;TZID=UTC:20190912T163000
DTEND;TZID=UTC:20190912T163000
DTSTAMP:20260423T033648
CREATED:20190829T012604Z
LAST-MODIFIED:20230406T020702Z
UID:1526-1568305800-1568305800@stjosephbaytown.com
SUMMARY:Soccer Game - Home
DESCRIPTION:VS. Holy Family
URL:https://stjosephbaytown.com/event/soccer-game-home-2/
LOCATION:TX
END:VEVENT
BEGIN:VEVENT
DTSTART;TZID=UTC:20190911T163000
DTEND;TZID=UTC:20190911T163000
DTSTAMP:20260423T033648
CREATED:20190826T191353Z
LAST-MODIFIED:20230406T020702Z
UID:1507-1568219400-1568219400@stjosephbaytown.com
SUMMARY:Volleyball Game - Away
DESCRIPTION:@ OLF Texas City
URL:https://stjosephbaytown.com/event/volleyball-game-away-2/
LOCATION:TX
END:VEVENT
BEGIN:VEVENT
DTSTART;TZID=UTC:20190911T083000
DTEND;TZID=UTC:20190911T093000
DTSTAMP:20260423T033648
CREATED:20190829T012240Z
LAST-MODIFIED:20230406T020702Z
UID:1522-1568190600-1568194200@stjosephbaytown.com
SUMMARY:Coffee w/ the Principal
DESCRIPTION:
URL:https://stjosephbaytown.com/event/coffee-w-the-principal/
LOCATION:TX
END:VEVENT
BEGIN:VEVENT
DTSTART;TZID=UTC:20190910T163000
DTEND;TZID=UTC:20190910T163000
DTSTAMP:20260423T033648
CREATED:20190829T012119Z
LAST-MODIFIED:20230406T020735Z
UID:1520-1568133000-1568133000@stjosephbaytown.com
SUMMARY:Soccer Game - Home
DESCRIPTION:VS St. Clare
URL:https://stjosephbaytown.com/event/soccer-game-home/
LOCATION:TX
END:VEVENT
BEGIN:VEVENT
DTSTART;TZID=UTC:20190909T163000
DTEND;TZID=UTC:20190909T163000
DTSTAMP:20260423T033648
CREATED:20190824T002137Z
LAST-MODIFIED:20230406T020736Z
UID:1492-1568046600-1568046600@stjosephbaytown.com
SUMMARY:Volleyball - Home
DESCRIPTION:Mt. Carmel
URL:https://stjosephbaytown.com/event/volleyball-home/
LOCATION:TX
END:VEVENT
BEGIN:VEVENT
DTSTART;TZID=UTC:20190906T180000
DTEND;TZID=UTC:20190906T200000
DTSTAMP:20260423T033648
CREATED:20190806T020647Z
LAST-MODIFIED:20230406T020736Z
UID:1465-1567792800-1567800000@stjosephbaytown.com
SUMMARY:Back to School Dance
DESCRIPTION:Grades 5th-8th
URL:https://stjosephbaytown.com/event/back-to-school-dance/
LOCATION:TX
END:VEVENT
BEGIN:VEVENT
DTSTART;TZID=UTC:20190905T163000
DTEND;TZID=UTC:20190905T163000
DTSTAMP:20260423T033648
CREATED:20190824T001814Z
LAST-MODIFIED:20230406T020736Z
UID:1488-1567701000-1567701000@stjosephbaytown.com
SUMMARY:Soccer Game - Away
DESCRIPTION:
URL:https://stjosephbaytown.com/event/soccer-game-away/
LOCATION:TX
END:VEVENT
BEGIN:VEVENT
DTSTART;TZID=UTC:20190905T090000
DTEND;TZID=UTC:20190905T100000
DTSTAMP:20260423T033648
CREATED:20190824T001239Z
LAST-MODIFIED:20230406T020736Z
UID:1486-1567674000-1567677600@stjosephbaytown.com
SUMMARY:Grandparents' Day
DESCRIPTION:@ St. Joseph School
URL:https://stjosephbaytown.com/event/grandparents-day-3/
LOCATION:TX
END:VEVENT
BEGIN:VEVENT
DTSTART;TZID=UTC:20190904T163000
DTEND;TZID=UTC:20190904T163000
DTSTAMP:20260423T033648
CREATED:20190824T000614Z
LAST-MODIFIED:20230406T020736Z
UID:1482-1567614600-1567614600@stjosephbaytown.com
SUMMARY:Volleyball Game - Away
DESCRIPTION:St. Augustine
URL:https://stjosephbaytown.com/event/volleyball-game-home/
LOCATION:TX
END:VEVENT
BEGIN:VEVENT
DTSTART;TZID=UTC:20190904T140000
DTEND;TZID=UTC:20190904T150000
DTSTAMP:20260423T033648
CREATED:20190824T000538Z
LAST-MODIFIED:20230406T020736Z
UID:1480-1567605600-1567609200@stjosephbaytown.com
SUMMARY:Pep Rally
DESCRIPTION:
URL:https://stjosephbaytown.com/event/pep-rally/
LOCATION:TX
END:VEVENT
BEGIN:VEVENT
DTSTART;TZID=UTC:20190902T080000
DTEND;TZID=UTC:20190902T170000
DTSTAMP:20260423T033648
CREATED:20190806T020711Z
LAST-MODIFIED:20230406T020736Z
UID:1467-1567411200-1567443600@stjosephbaytown.com
SUMMARY:Labor Day NO SCHOOL
DESCRIPTION:School Holiday
URL:https://stjosephbaytown.com/event/labor-day-no-school/
LOCATION:TX
END:VEVENT
BEGIN:VEVENT
DTSTART;TZID=UTC:20190826T163000
DTEND;TZID=UTC:20190826T163000
DTSTAMP:20260423T033648
CREATED:20190826T191226Z
LAST-MODIFIED:20230406T020736Z
UID:1503-1566837000-1566837000@stjosephbaytown.com
SUMMARY:Volleyball Game - Home
DESCRIPTION:vs. True Cross
URL:https://stjosephbaytown.com/event/volleyball-game-home-3/
LOCATION:TX
END:VEVENT
END:VCALENDAR