BEGIN:VCALENDAR
VERSION:2.0
PRODID:-//St. Joseph Catholic School - ECPv6.15.20//NONSGML v1.0//EN
CALSCALE:GREGORIAN
METHOD:PUBLISH
X-WR-CALNAME:St. Joseph Catholic School
X-ORIGINAL-URL:https://stjosephbaytown.com
X-WR-CALDESC:Events for St. Joseph Catholic School
REFRESH-INTERVAL;VALUE=DURATION:PT1H
X-Robots-Tag:noindex
X-PUBLISHED-TTL:PT1H
BEGIN:VTIMEZONE
TZID:UTC
BEGIN:STANDARD
TZOFFSETFROM:+0000
TZOFFSETTO:+0000
TZNAME:UTC
DTSTART:20180101T000000
END:STANDARD
END:VTIMEZONE
BEGIN:VEVENT
DTSTART;TZID=UTC:20190912T163000
DTEND;TZID=UTC:20190912T163000
DTSTAMP:20260423T135022
CREATED:20190829T012604Z
LAST-MODIFIED:20230406T020702Z
UID:1526-1568305800-1568305800@stjosephbaytown.com
SUMMARY:Soccer Game - Home
DESCRIPTION:VS. Holy Family
URL:https://stjosephbaytown.com/event/soccer-game-home-2/
END:VEVENT
BEGIN:VEVENT
DTSTART;TZID=UTC:20190911T163000
DTEND;TZID=UTC:20190911T163000
DTSTAMP:20260423T135022
CREATED:20190826T191353Z
LAST-MODIFIED:20230406T020702Z
UID:1507-1568219400-1568219400@stjosephbaytown.com
SUMMARY:Volleyball Game - Away
DESCRIPTION:@ OLF Texas City
URL:https://stjosephbaytown.com/event/volleyball-game-away-2/
END:VEVENT
BEGIN:VEVENT
DTSTART;TZID=UTC:20190911T083000
DTEND;TZID=UTC:20190911T093000
DTSTAMP:20260423T135022
CREATED:20190829T012240Z
LAST-MODIFIED:20230406T020702Z
UID:1522-1568190600-1568194200@stjosephbaytown.com
SUMMARY:Coffee w/ the Principal
DESCRIPTION:
URL:https://stjosephbaytown.com/event/coffee-w-the-principal/
END:VEVENT
BEGIN:VEVENT
DTSTART;TZID=UTC:20190910T163000
DTEND;TZID=UTC:20190910T163000
DTSTAMP:20260423T135022
CREATED:20190829T012119Z
LAST-MODIFIED:20230406T020735Z
UID:1520-1568133000-1568133000@stjosephbaytown.com
SUMMARY:Soccer Game - Home
DESCRIPTION:VS St. Clare
URL:https://stjosephbaytown.com/event/soccer-game-home/
END:VEVENT
BEGIN:VEVENT
DTSTART;TZID=UTC:20190909T163000
DTEND;TZID=UTC:20190909T163000
DTSTAMP:20260423T135022
CREATED:20190824T002137Z
LAST-MODIFIED:20230406T020736Z
UID:1492-1568046600-1568046600@stjosephbaytown.com
SUMMARY:Volleyball - Home
DESCRIPTION:Mt. Carmel
URL:https://stjosephbaytown.com/event/volleyball-home/
END:VEVENT
BEGIN:VEVENT
DTSTART;TZID=UTC:20190906T180000
DTEND;TZID=UTC:20190906T200000
DTSTAMP:20260423T135022
CREATED:20190806T020647Z
LAST-MODIFIED:20230406T020736Z
UID:1465-1567792800-1567800000@stjosephbaytown.com
SUMMARY:Back to School Dance
DESCRIPTION:Grades 5th-8th
URL:https://stjosephbaytown.com/event/back-to-school-dance/
END:VEVENT
BEGIN:VEVENT
DTSTART;TZID=UTC:20190905T163000
DTEND;TZID=UTC:20190905T163000
DTSTAMP:20260423T135022
CREATED:20190824T001814Z
LAST-MODIFIED:20230406T020736Z
UID:1488-1567701000-1567701000@stjosephbaytown.com
SUMMARY:Soccer Game - Away
DESCRIPTION:
URL:https://stjosephbaytown.com/event/soccer-game-away/
END:VEVENT
BEGIN:VEVENT
DTSTART;TZID=UTC:20190905T090000
DTEND;TZID=UTC:20190905T100000
DTSTAMP:20260423T135022
CREATED:20190824T001239Z
LAST-MODIFIED:20230406T020736Z
UID:1486-1567674000-1567677600@stjosephbaytown.com
SUMMARY:Grandparents' Day
DESCRIPTION:@ St. Joseph School
URL:https://stjosephbaytown.com/event/grandparents-day-3/
END:VEVENT
BEGIN:VEVENT
DTSTART;TZID=UTC:20190904T163000
DTEND;TZID=UTC:20190904T163000
DTSTAMP:20260423T135022
CREATED:20190824T000614Z
LAST-MODIFIED:20230406T020736Z
UID:1482-1567614600-1567614600@stjosephbaytown.com
SUMMARY:Volleyball Game - Away
DESCRIPTION:St. Augustine
URL:https://stjosephbaytown.com/event/volleyball-game-home/
END:VEVENT
BEGIN:VEVENT
DTSTART;TZID=UTC:20190904T140000
DTEND;TZID=UTC:20190904T150000
DTSTAMP:20260423T135022
CREATED:20190824T000538Z
LAST-MODIFIED:20230406T020736Z
UID:1480-1567605600-1567609200@stjosephbaytown.com
SUMMARY:Pep Rally
DESCRIPTION:
URL:https://stjosephbaytown.com/event/pep-rally/
END:VEVENT
BEGIN:VEVENT
DTSTART;TZID=UTC:20190902T080000
DTEND;TZID=UTC:20190902T170000
DTSTAMP:20260423T135022
CREATED:20190806T020711Z
LAST-MODIFIED:20230406T020736Z
UID:1467-1567411200-1567443600@stjosephbaytown.com
SUMMARY:Labor Day NO SCHOOL
DESCRIPTION:School Holiday
URL:https://stjosephbaytown.com/event/labor-day-no-school/
END:VEVENT
BEGIN:VEVENT
DTSTART;TZID=UTC:20190826T163000
DTEND;TZID=UTC:20190826T163000
DTSTAMP:20260423T135022
CREATED:20190826T191226Z
LAST-MODIFIED:20230406T020736Z
UID:1503-1566837000-1566837000@stjosephbaytown.com
SUMMARY:Volleyball Game - Home
DESCRIPTION:vs. True Cross
URL:https://stjosephbaytown.com/event/volleyball-game-home-3/
END:VEVENT
BEGIN:VEVENT
DTSTART;TZID=UTC:20190826T043000
DTEND;TZID=UTC:20190826T043000
DTSTAMP:20260423T135022
CREATED:20190826T191143Z
LAST-MODIFIED:20230406T020736Z
UID:1500-1566793800-1566793800@stjosephbaytown.com
SUMMARY:Volleyball Game - Away
DESCRIPTION:OLF Texas City
URL:https://stjosephbaytown.com/event/volleyball-game-away/
END:VEVENT
BEGIN:VEVENT
DTSTART;TZID=UTC:20190822T180000
DTEND;TZID=UTC:20190822T190000
DTSTAMP:20260423T135022
CREATED:20190806T020617Z
LAST-MODIFIED:20230406T020736Z
UID:1463-1566496800-1566500400@stjosephbaytown.com
SUMMARY:PTA Meeting
DESCRIPTION:
URL:https://stjosephbaytown.com/event/pta-meeting/
END:VEVENT
BEGIN:VEVENT
DTSTART;TZID=UTC:20190816T080000
DTEND;TZID=UTC:20190816T080000
DTSTAMP:20260423T135022
CREATED:20190806T020535Z
LAST-MODIFIED:20230406T020736Z
UID:1461-1565942400-1565942400@stjosephbaytown.com
SUMMARY:School Mass
DESCRIPTION:
URL:https://stjosephbaytown.com/event/school-mass-2/
END:VEVENT
BEGIN:VEVENT
DTSTART;TZID=UTC:20190815T080000
DTEND;TZID=UTC:20190815T090000
DTSTAMP:20260423T135022
CREATED:20190806T020458Z
LAST-MODIFIED:20230406T020736Z
UID:1459-1565856000-1565859600@stjosephbaytown.com
SUMMARY:Feast of the Assumption
DESCRIPTION:School Mass
URL:https://stjosephbaytown.com/event/feast-of-the-assumption/
END:VEVENT
BEGIN:VEVENT
DTSTART;TZID=UTC:20190812T080000
DTEND;TZID=UTC:20190812T080000
DTSTAMP:20260423T135022
CREATED:20190806T020315Z
LAST-MODIFIED:20230406T020736Z
UID:1457-1565596800-1565596800@stjosephbaytown.com
SUMMARY:Teacher In-Service
DESCRIPTION:
URL:https://stjosephbaytown.com/event/teacher-in-service-6/
END:VEVENT
BEGIN:VEVENT
DTSTART;TZID=UTC:20190808T180000
DTEND;TZID=UTC:20190808T193000
DTSTAMP:20260423T135022
CREATED:20190717T022835Z
LAST-MODIFIED:20230406T020736Z
UID:1404-1565287200-1565292600@stjosephbaytown.com
SUMMARY:Meet the Teacher
DESCRIPTION:
URL:https://stjosephbaytown.com/event/meet-the-teacher-4/
END:VEVENT
BEGIN:VEVENT
DTSTART;TZID=UTC:20190805T080000
DTEND;TZID=UTC:20190809T170000
DTSTAMP:20260423T135022
CREATED:20190806T020207Z
LAST-MODIFIED:20230406T020736Z
UID:1455-1564992000-1565370000@stjosephbaytown.com
SUMMARY:Teacher In-Service
DESCRIPTION:
URL:https://stjosephbaytown.com/event/teacher-in-service-5/
END:VEVENT
BEGIN:VEVENT
DTSTART;TZID=UTC:20190701T080000
DTEND;TZID=UTC:20190705T170000
DTSTAMP:20260423T135022
CREATED:20190625T235617Z
LAST-MODIFIED:20230406T020736Z
UID:1399-1561968000-1562346000@stjosephbaytown.com
SUMMARY:School Office Closed
DESCRIPTION:The School Office will be closed July 1st through July 5th. Regular Summer Hours will resume July 8th.
URL:https://stjosephbaytown.com/event/school-office-closed/
END:VEVENT
BEGIN:VEVENT
DTSTART;TZID=UTC:20190529T074500
DTEND;TZID=UTC:20190529T150000
DTSTAMP:20260423T135022
CREATED:20190226T222042Z
LAST-MODIFIED:20230406T020736Z
UID:1268-1559115900-1559142000@stjosephbaytown.com
SUMMARY:Last Day of Instruction
DESCRIPTION:
URL:https://stjosephbaytown.com/event/last-day-of-instruction-2/
END:VEVENT
BEGIN:VEVENT
DTSTART;VALUE=DATE:20190528
DTEND;VALUE=DATE:20190529
DTSTAMP:20260423T135022
CREATED:20190226T221935Z
LAST-MODIFIED:20230406T020736Z
UID:1265-1559001600-1559087999@stjosephbaytown.com
SUMMARY:Kindergarten Graduation / Awards Assembly
DESCRIPTION:
URL:https://stjosephbaytown.com/event/kindergarten-graduation-3/
END:VEVENT
BEGIN:VEVENT
DTSTART;VALUE=DATE:20190527
DTEND;VALUE=DATE:20190528
DTSTAMP:20260423T135022
CREATED:20190226T221915Z
LAST-MODIFIED:20230406T020736Z
UID:1263-1558915200-1559001599@stjosephbaytown.com
SUMMARY:Memorial Day - No School
DESCRIPTION:
URL:https://stjosephbaytown.com/event/memorial-day-no-school-2/
END:VEVENT
BEGIN:VEVENT
DTSTART;VALUE=DATE:20190523
DTEND;VALUE=DATE:20190524
DTSTAMP:20260423T135022
CREATED:20190226T221842Z
LAST-MODIFIED:20230406T020801Z
UID:1261-1558569600-1558655999@stjosephbaytown.com
SUMMARY:8th Grade Graduation
DESCRIPTION:
URL:https://stjosephbaytown.com/event/8th-grade-graduation-3/
END:VEVENT
BEGIN:VEVENT
DTSTART;VALUE=DATE:20190422
DTEND;VALUE=DATE:20190423
DTSTAMP:20260423T135022
CREATED:20190226T221643Z
LAST-MODIFIED:20230406T020801Z
UID:1255-1555891200-1555977599@stjosephbaytown.com
SUMMARY:Easter Monday - No School
DESCRIPTION:
URL:https://stjosephbaytown.com/event/good-friday-no-school/
END:VEVENT
BEGIN:VEVENT
DTSTART;VALUE=DATE:20190419
DTEND;VALUE=DATE:20190420
DTSTAMP:20260423T135022
CREATED:20190226T221757Z
LAST-MODIFIED:20230406T020801Z
UID:1259-1555632000-1555718399@stjosephbaytown.com
SUMMARY:Good Friday - No School
DESCRIPTION:
URL:https://stjosephbaytown.com/event/good-friday-no-school-2/
END:VEVENT
BEGIN:VEVENT
DTSTART;TZID=UTC:20190418T074500
DTEND;TZID=UTC:20190418T120000
DTSTAMP:20260423T135022
CREATED:20190226T221616Z
LAST-MODIFIED:20230406T020801Z
UID:1253-1555573500-1555588800@stjosephbaytown.com
SUMMARY:Holy Thursday + Early Release
DESCRIPTION:
URL:https://stjosephbaytown.com/event/holy-thursday-early-release/
END:VEVENT
BEGIN:VEVENT
DTSTART;VALUE=DATE:20190401
DTEND;VALUE=DATE:20190413
DTSTAMP:20260423T135022
CREATED:20190226T221520Z
LAST-MODIFIED:20230406T020801Z
UID:1251-1554076800-1555113599@stjosephbaytown.com
SUMMARY:IOWA Testing
DESCRIPTION:
URL:https://stjosephbaytown.com/event/iowa-testing-2/
END:VEVENT
BEGIN:VEVENT
DTSTART;VALUE=DATE:20190326
DTEND;VALUE=DATE:20190327
DTSTAMP:20260423T135022
CREATED:20190226T221444Z
LAST-MODIFIED:20230406T020801Z
UID:1249-1553558400-1553644799@stjosephbaytown.com
SUMMARY:Spring & Extracurricular Photos
DESCRIPTION:
URL:https://stjosephbaytown.com/event/spring-extracurricular-photos/
END:VEVENT
BEGIN:VEVENT
DTSTART;VALUE=DATE:20190311
DTEND;VALUE=DATE:20190316
DTSTAMP:20260423T135022
CREATED:20190226T220245Z
LAST-MODIFIED:20230406T020801Z
UID:1247-1552262400-1552694399@stjosephbaytown.com
SUMMARY:Spring Break
DESCRIPTION:
URL:https://stjosephbaytown.com/event/spring-break-3/
END:VEVENT
END:VCALENDAR